BEGIN:VCALENDAR
VERSION:2.0
PRODID:-//Friends of Camp Whitsett - ECPv6.13.0//NONSGML v1.0//EN
CALSCALE:GREGORIAN
METHOD:PUBLISH
X-WR-CALNAME:Friends of Camp Whitsett
X-ORIGINAL-URL:https://whitsett.org
X-WR-CALDESC:Events for Friends of Camp Whitsett
REFRESH-INTERVAL;VALUE=DURATION:PT1H
X-Robots-Tag:noindex
X-PUBLISHED-TTL:PT1H
BEGIN:VTIMEZONE
TZID:America/Los_Angeles
BEGIN:DAYLIGHT
TZOFFSETFROM:-0800
TZOFFSETTO:-0700
TZNAME:PDT
DTSTART:20250309T100000
END:DAYLIGHT
BEGIN:STANDARD
TZOFFSETFROM:-0700
TZOFFSETTO:-0800
TZNAME:PST
DTSTART:20251102T090000
END:STANDARD
END:VTIMEZONE
BEGIN:VEVENT
DTSTART;TZID=America/Los_Angeles:20250516T170000
DTEND;TZID=America/Los_Angeles:20250518T110000
DTSTAMP:20260419T195222
CREATED:20250502T013018Z
LAST-MODIFIED:20250502T013018Z
UID:4202-1747414800-1747566000@whitsett.org
SUMMARY:2025 Spring Service Weekend
DESCRIPTION:Come help get camp ready for summer!  \nIndividuals\, families\, and Scout units are ALL welcome to participate. \n  \nBe a part of making the Camp Whitsett Experience a reality for the hundreds of Scouts and Scouters who have chosen Camp Whitsett for Summer 2025. \n  \nWeekend includes all meals and sleeping space (bring your sleeping bag). \n  \nInterested also in the 2025 Fall Service Weekend? \nCLICK HERE! \nRSVP for Event
URL:https://whitsett.org/event/2025-spring-service-weekend/
LOCATION:Camp Whitsett\, Camp Whitsett\, Forest Rt 22S82\, Kernville\, CA\, 93238\, United States
CATEGORIES:Service Project
ATTACH;FMTTYPE=image/jpeg:https://whitsett.org/wp-content/uploads/2025/04/2025-Spring-Service-Weekend-Web-Header.jpg
END:VEVENT
END:VCALENDAR