BEGIN:VCALENDAR
VERSION:2.0
PRODID:-//Friends of Camp Whitsett - ECPv6.13.0//NONSGML v1.0//EN
CALSCALE:GREGORIAN
METHOD:PUBLISH
X-WR-CALNAME:Friends of Camp Whitsett
X-ORIGINAL-URL:https://whitsett.org
X-WR-CALDESC:Events for Friends of Camp Whitsett
REFRESH-INTERVAL;VALUE=DURATION:PT1H
X-Robots-Tag:noindex
X-PUBLISHED-TTL:PT1H
BEGIN:VTIMEZONE
TZID:America/Los_Angeles
BEGIN:DAYLIGHT
TZOFFSETFROM:-0800
TZOFFSETTO:-0700
TZNAME:PDT
DTSTART:20250309T100000
END:DAYLIGHT
BEGIN:STANDARD
TZOFFSETFROM:-0700
TZOFFSETTO:-0800
TZNAME:PST
DTSTART:20251102T090000
END:STANDARD
END:VTIMEZONE
BEGIN:VEVENT
DTSTART;TZID=America/Los_Angeles:20250926T170000
DTEND;TZID=America/Los_Angeles:20250928T110000
DTSTAMP:20260419T161633
CREATED:20250502T013023Z
LAST-MODIFIED:20250502T013023Z
UID:4199-1758906000-1759057200@whitsett.org
SUMMARY:2025 Fall Service Weekend
DESCRIPTION:Help with the continuing effort to improve Camp\, as well as prepare it for its winter hibernation. \nIndividuals\, families\, and Scout units are ALL welcome to participate. \n  \nWeekend includes all meals and sleeping space (bring your sleeping bag). \n  \nInterested also in the 2025 Spring Service Weekend? \nCLICK HERE! \n  \nRSVP for Event
URL:https://whitsett.org/event/2025-fall-service-weekend/
LOCATION:Camp Whitsett\, Camp Whitsett\, Forest Rt 22S82\, Kernville\, CA\, 93238\, United States
CATEGORIES:Service Project
ATTACH;FMTTYPE=image/jpeg:https://whitsett.org/wp-content/uploads/2025/04/2025-Fall-Service-Weekend-Web-Header.png.jpg
END:VEVENT
END:VCALENDAR