BEGIN:VCALENDAR
VERSION:2.0
PRODID:-//Friends of Camp Whitsett - ECPv6.13.0//NONSGML v1.0//EN
CALSCALE:GREGORIAN
METHOD:PUBLISH
X-WR-CALNAME:Friends of Camp Whitsett
X-ORIGINAL-URL:https://whitsett.org
X-WR-CALDESC:Events for Friends of Camp Whitsett
REFRESH-INTERVAL;VALUE=DURATION:PT1H
X-Robots-Tag:noindex
X-PUBLISHED-TTL:PT1H
BEGIN:VTIMEZONE
TZID:America/Los_Angeles
BEGIN:DAYLIGHT
TZOFFSETFROM:-0800
TZOFFSETTO:-0700
TZNAME:PDT
DTSTART:20240310T100000
END:DAYLIGHT
BEGIN:STANDARD
TZOFFSETFROM:-0700
TZOFFSETTO:-0800
TZNAME:PST
DTSTART:20241103T090000
END:STANDARD
END:VTIMEZONE
BEGIN:VEVENT
DTSTART;TZID=America/Los_Angeles:20240927T170000
DTEND;TZID=America/Los_Angeles:20240929T100000
DTSTAMP:20260425T074629
CREATED:20241116T212901Z
LAST-MODIFIED:20241116T212901Z
UID:4070-1727456400-1727604000@whitsett.org
SUMMARY:2024 Fall Service Weekend
DESCRIPTION:Help with the continuing effort to improve Camp\, as well as prepare it for its winter hibernation. \nIndividuals\, families\, and Scout units are ALL welcome to participate. \nWeekend includes all meals and sleeping space (bring your sleeping bag).
URL:https://whitsett.org/event/2024-fall-service-weekend/
LOCATION:Camp Whitsett\, Camp Whitsett\, Forest Rt 22S82\, Kernville\, CA\, 93238\, United States
ATTACH;FMTTYPE=image/jpeg:https://whitsett.org/wp-content/uploads/2024/10/2024-Fall-Service-Weekend-Header.jpg
END:VEVENT
END:VCALENDAR